BEGIN:VCALENDAR
VERSION:2.0
PRODID:-//Segopholo Health Care - ECPv6.15.20//NONSGML v1.0//EN
CALSCALE:GREGORIAN
METHOD:PUBLISH
X-WR-CALNAME:Segopholo Health Care
X-ORIGINAL-URL:https://segopholo.co.za
X-WR-CALDESC:Events for Segopholo Health Care
REFRESH-INTERVAL;VALUE=DURATION:PT1H
X-Robots-Tag:noindex
X-PUBLISHED-TTL:PT1H
BEGIN:VTIMEZONE
TZID:Africa/Johannesburg
BEGIN:STANDARD
TZOFFSETFROM:+0200
TZOFFSETTO:+0200
TZNAME:SAST
DTSTART:20240101T000000
END:STANDARD
END:VTIMEZONE
BEGIN:VEVENT
DTSTART;TZID=Africa/Johannesburg:20251012T000000
DTEND;TZID=Africa/Johannesburg:20251012T235959
DTSTAMP:20260423T185633
CREATED:20250822T144316Z
LAST-MODIFIED:20250824T072705Z
UID:3193-1760227200-1760313599@segopholo.co.za
SUMMARY:2nd Annual Segopholo Healthcare CPD Event
DESCRIPTION:We are excited to announce the 2nd annual Segopholo Healthcare CPD Event coming to Rustenburg on 12 October!\nJoin us for a day of celebrating clinical excellence and building excellence.
URL:https://segopholo.co.za/event/2nd-annual-segopholo-healthcare-cpd-event/
ATTACH;FMTTYPE=image/webp:https://segopholo.co.za/wp-content/uploads/2025/08/Segopholo-Health-Care-CDP-Event-1.webp
END:VEVENT
END:VCALENDAR