BEGIN:VCALENDAR
VERSION:2.0
PRODID:-//Segopholo Health Care - ECPv6.15.20//NONSGML v1.0//EN
CALSCALE:GREGORIAN
METHOD:PUBLISH
X-ORIGINAL-URL:https://segopholo.co.za
X-WR-CALDESC:Events for Segopholo Health Care
REFRESH-INTERVAL;VALUE=DURATION:PT1H
X-Robots-Tag:noindex
X-PUBLISHED-TTL:PT1H
BEGIN:VTIMEZONE
TZID:Africa/Johannesburg
BEGIN:STANDARD
TZOFFSETFROM:+0200
TZOFFSETTO:+0200
TZNAME:SAST
DTSTART:20240101T000000
END:STANDARD
END:VTIMEZONE
BEGIN:VEVENT
DTSTART;TZID=Africa/Johannesburg:20250814T180000
DTEND;TZID=Africa/Johannesburg:20250814T190000
DTSTAMP:20260423T213227
CREATED:20250814T140951Z
LAST-MODIFIED:20250814T140951Z
UID:3143-1755194400-1755198000@segopholo.co.za
SUMMARY:Access to Healthcare
DESCRIPTION:We’ll be discuss access to healthcare: a constitutional right for all. How do we balance access with availability of resources? What of the recent protests in our communities?
URL:https://segopholo.co.za/event/access-to-healthcare/
ATTACH;FMTTYPE=image/jpeg:https://segopholo.co.za/wp-content/uploads/2025/08/IMG-20250811-WA0068.jpg
END:VEVENT
BEGIN:VEVENT
DTSTART;TZID=Africa/Johannesburg:20250821T180000
DTEND;TZID=Africa/Johannesburg:20250821T190000
DTSTAMP:20260423T213227
CREATED:20250821T100037Z
LAST-MODIFIED:20250821T100040Z
UID:3158-1755799200-1755802800@segopholo.co.za
SUMMARY:Informed consent
DESCRIPTION:We are excited to invite you yet again to another informative engagement powered by Sanlam. This week’s topic is on Informed Consent: A significant foundation in docter-patient interaction.\nThe talk will expand on  elements relating to the definition of consent  including disclosure\, competence\, comprehension and voluntariness.
URL:https://segopholo.co.za/event/informed-consent/
ATTACH;FMTTYPE=image/jpeg:https://segopholo.co.za/wp-content/uploads/2025/08/WhatsApp-Image-2025-08-20-at-15.20.15.jpeg
END:VEVENT
END:VCALENDAR