BEGIN:VCALENDAR
VERSION:2.0
PRODID:-//Segopholo Health Care - ECPv6.15.20//NONSGML v1.0//EN
CALSCALE:GREGORIAN
METHOD:PUBLISH
X-ORIGINAL-URL:https://segopholo.co.za
X-WR-CALDESC:Events for Segopholo Health Care
REFRESH-INTERVAL;VALUE=DURATION:PT1H
X-Robots-Tag:noindex
X-PUBLISHED-TTL:PT1H
BEGIN:VTIMEZONE
TZID:Africa/Johannesburg
BEGIN:STANDARD
TZOFFSETFROM:+0200
TZOFFSETTO:+0200
TZNAME:SAST
DTSTART:20250101T000000
END:STANDARD
END:VTIMEZONE
BEGIN:VEVENT
DTSTART;TZID=Africa/Johannesburg:20260226T180000
DTEND;TZID=Africa/Johannesburg:20260226T190000
DTSTAMP:20260423T212937
CREATED:20260216T120031Z
LAST-MODIFIED:20260216T120031Z
UID:3363-1772128800-1772132400@segopholo.co.za
SUMMARY:Patient-centered care
DESCRIPTION:Patient centered care has benefits to the patient\, the clinician and the health system as a whole.  \nThe discussion will expand on the principles of patient centered care.  \nThe HPCSA guidelines and the Healthcare Act in relation to the patient-clinician relationship.  \nThe ethical conflicts which may arise in the practice of patient based care and more.
URL:https://segopholo.co.za/event/patient-centered-care/
ATTACH;FMTTYPE=image/jpeg:https://segopholo.co.za/wp-content/uploads/2026/02/IMG-20260212-WA0003.jpg
END:VEVENT
BEGIN:VEVENT
DTSTART;TZID=Africa/Johannesburg:20260326T180000
DTEND;TZID=Africa/Johannesburg:20260326T190000
DTSTAMP:20260423T212937
CREATED:20260324T055513Z
LAST-MODIFIED:20260324T055513Z
UID:3382-1774548000-1774551600@segopholo.co.za
SUMMARY:Adverse drug reactions
DESCRIPTION:The discussion will among others: – Define pharmacovigilance and adverse drug reactions in the context of clinical practice. – Differentiate between adverse events and adverse drug reactions. – Recognise factors that increase the risk of adverse drug reactions in patients. – Identify what types of adverse drug reactions should be reported. – Recognise who is responsible for reporting ADRs in clinical practice and more \n\n\n\n\n\n\n\n\n\n 
URL:https://segopholo.co.za/event/adverse-drug-reactions/
ATTACH;FMTTYPE=image/jpeg:https://segopholo.co.za/wp-content/uploads/2026/03/Copy-of-Copy-of-Copy-of-Copy-of-Copy-of-Copy-of-Your-paragraph-text_20260317_154523_0000.jpg
END:VEVENT
END:VCALENDAR